BEGIN:VCALENDAR
VERSION:2.0
PRODID:-//leipspeis | Ölmühle Leipzig und Manufaktur für Brotaufstriche - ECPv5.16.4//NONSGML v1.0//EN
CALSCALE:GREGORIAN
METHOD:PUBLISH
X-WR-CALNAME:leipspeis | Ölmühle Leipzig und Manufaktur für Brotaufstriche
X-ORIGINAL-URL:https://leipspeis.de
X-WR-CALDESC:Veranstaltungen für leipspeis | Ölmühle Leipzig und Manufaktur für Brotaufstriche
BEGIN:VTIMEZONE
TZID:Europe/Berlin
BEGIN:DAYLIGHT
TZOFFSETFROM:+0100
TZOFFSETTO:+0200
TZNAME:CEST
DTSTART:20180325T010000
END:DAYLIGHT
BEGIN:STANDARD
TZOFFSETFROM:+0200
TZOFFSETTO:+0100
TZNAME:CET
DTSTART:20181028T010000
END:STANDARD
END:VTIMEZONE
BEGIN:VEVENT
DTSTART;TZID=Europe/Berlin:20180623T110000
DTEND;TZID=Europe/Berlin:20180623T190000
DTSTAMP:20260422T023239
CREATED:20180316T111548Z
LAST-MODIFIED:20180316T111548Z
UID:1030-1529751600-1529780400@leipspeis.de
SUMMARY:ÖLMÜHLE on tour - Bohei Tamtam
DESCRIPTION:Für uns ist es ein gro­ßer Erfolg\, dass es in Leip­zig wie­der eine Ölmüh­le gibt.\nWir zei­gen Euch die Müh­len­tech­nik und berich­ten über unse­re Phi­los­phie & Visionen. \nIhr könnt beob­ach­ten\, wie sich das frisch gepress­te Öl sei­nen Weg vom Press­werk in das Ölfass bahnt. Das Sehen\, Ver­kos­ten und Rie­chen macht einen Besuch unse­res Stands zu einer abso­lut sinn­li­chen Erfah­run­gen. Dazu berich­ten wir euch von den Landwirt°innen unse­rer Regi­on und war­um es wie­der mehr dezen­tra­le Müh­len auf Welt braucht! Und natür­lich fül­len wir euch das müh­len­fri­sche Öl direkt ab.\nKommt vor­bei\, wir ste­hen direkt vor dem Bio­la­den kostbar.
URL:https://leipspeis.de/event/oelmuehle-on-tour-bohei-tamtam/
END:VEVENT
END:VCALENDAR