BEGIN:VCALENDAR
VERSION:2.0
PRODID:-//leipspeis | Ölmühle Leipzig und Manufaktur für Brotaufstriche - ECPv5.16.4//NONSGML v1.0//EN
CALSCALE:GREGORIAN
METHOD:PUBLISH
X-WR-CALNAME:leipspeis | Ölmühle Leipzig und Manufaktur für Brotaufstriche
X-ORIGINAL-URL:https://leipspeis.de
X-WR-CALDESC:Veranstaltungen für leipspeis | Ölmühle Leipzig und Manufaktur für Brotaufstriche
BEGIN:VTIMEZONE
TZID:Europe/Berlin
BEGIN:DAYLIGHT
TZOFFSETFROM:+0100
TZOFFSETTO:+0200
TZNAME:CEST
DTSTART:20180325T010000
END:DAYLIGHT
BEGIN:STANDARD
TZOFFSETFROM:+0200
TZOFFSETTO:+0100
TZNAME:CET
DTSTART:20181028T010000
END:STANDARD
END:VTIMEZONE
BEGIN:VEVENT
DTSTART;TZID=Europe/Berlin:20180622T130000
DTEND;TZID=Europe/Berlin:20180622T180000
DTSTAMP:20260422T011231
CREATED:20180320T150206Z
LAST-MODIFIED:20180327T084658Z
UID:1060-1529672400-1529690400@leipspeis.de
SUMMARY:ÖLMÜHLE on tour - Zu Gast bei SPECK Lebensmittelmarkt
DESCRIPTION:Für uns ist es ein gro­ßer Erfolg\, dass es in Leip­zig wie­der eine Ölmüh­le gibt.\nWir zei­gen Euch die Müh­len­tech­nik und berich­ten über unse­re Phi­los­phie & Visionen. \nIhr könnt beob­ach­ten\, wie sich das frisch gepress­te Öl sei­nen Weg vom Press­werk in das Ölfass bahnt. Das Sehen\, Ver­kos­ten und Rie­chen macht einen Besuch unse­res Stands zu einer abso­lut sinn­li­chen Erfah­run­gen. Dazu berich­ten wir euch von den Landwirt°innen unse­rer Regi­on und war­um es wie­der mehr dezen­tra­le Müh­len auf Welt braucht! Und natür­lich fül­len wir euch das müh­len­fri­sche Öl direkt ab.\nKommt vor­bei\, wir freu­en uns auf euch!!\nIhr fin­det uns direkt vor dem lie­be­vol­len Laden von Fami­lie Ros­ti in der Micha­el-Kaz­mier­c­zak-Stra­ße 33/ Ein­gang Adolph-Menzel-Strasse.
URL:https://leipspeis.de/event/oelmuehle-on-tour-zu-gast-bei-speck-lebensmittelmarkt/
LOCATION:SPECK Lebensmittelmarkt\, Michael-Kazmierczak-Straße 33\, Leipzig\, 04157
END:VEVENT
END:VCALENDAR